BEGIN:VCALENDAR
VERSION:2.0
PRODID:-//Bend Bikes - ECPv6.15.15//NONSGML v1.0//EN
CALSCALE:GREGORIAN
METHOD:PUBLISH
X-ORIGINAL-URL:https://bendbikes.org
X-WR-CALDESC:Events for Bend Bikes
REFRESH-INTERVAL;VALUE=DURATION:PT1H
X-Robots-Tag:noindex
X-PUBLISHED-TTL:PT1H
BEGIN:VTIMEZONE
TZID:America/Los_Angeles
BEGIN:DAYLIGHT
TZOFFSETFROM:-0800
TZOFFSETTO:-0700
TZNAME:PDT
DTSTART:20250309T100000
END:DAYLIGHT
BEGIN:STANDARD
TZOFFSETFROM:-0700
TZOFFSETTO:-0800
TZNAME:PST
DTSTART:20251102T090000
END:STANDARD
BEGIN:DAYLIGHT
TZOFFSETFROM:-0800
TZOFFSETTO:-0700
TZNAME:PDT
DTSTART:20260308T100000
END:DAYLIGHT
BEGIN:STANDARD
TZOFFSETFROM:-0700
TZOFFSETTO:-0800
TZNAME:PST
DTSTART:20261101T090000
END:STANDARD
BEGIN:DAYLIGHT
TZOFFSETFROM:-0800
TZOFFSETTO:-0700
TZNAME:PDT
DTSTART:20270314T100000
END:DAYLIGHT
BEGIN:STANDARD
TZOFFSETFROM:-0700
TZOFFSETTO:-0800
TZNAME:PST
DTSTART:20271107T090000
END:STANDARD
END:VTIMEZONE
BEGIN:VEVENT
DTSTART;TZID=America/Los_Angeles:20260505T170000
DTEND;TZID=America/Los_Angeles:20260505T190000
DTSTAMP:20260420T170929
CREATED:20260325T173333Z
LAST-MODIFIED:20260331T154003Z
UID:5385-1778000400-1778007600@bendbikes.org
SUMMARY:Bend Bikeways Reveal Ride
DESCRIPTION:Bend Bikes is partnering with Commute Options and the City of Bend for and informational ride to tour some of the exciting developments along a portion of one of the Bend Bikeways. \nSchedule: \n5:00pm – Meet at City Hall \n5:30pm – Depart \n7:00pm – Finish Ride \n  \nCheck out the event website to stay up to date with details: https://bendoregon.gov/construction-projects/bend-bikeway-project/ \n 
URL:https://bendbikes.org/event/bend-bikeways-reveal-ride/
CATEGORIES:City of Bend Projects
ATTACH;FMTTYPE=image/png:https://bendbikes.org/wp-content/uploads/Screenshot-2026-03-25-103132-e1774460002376.png
END:VEVENT
END:VCALENDAR