BEGIN:VCALENDAR
VERSION:2.0
PRODID:-//Bend Bikes - ECPv6.15.15//NONSGML v1.0//EN
CALSCALE:GREGORIAN
METHOD:PUBLISH
X-WR-CALNAME:Bend Bikes
X-ORIGINAL-URL:https://bendbikes.org
X-WR-CALDESC:Events for Bend Bikes
REFRESH-INTERVAL;VALUE=DURATION:PT1H
X-Robots-Tag:noindex
X-PUBLISHED-TTL:PT1H
BEGIN:VTIMEZONE
TZID:America/Los_Angeles
BEGIN:DAYLIGHT
TZOFFSETFROM:-0800
TZOFFSETTO:-0700
TZNAME:PDT
DTSTART:20210314T100000
END:DAYLIGHT
BEGIN:STANDARD
TZOFFSETFROM:-0700
TZOFFSETTO:-0800
TZNAME:PST
DTSTART:20211107T090000
END:STANDARD
BEGIN:DAYLIGHT
TZOFFSETFROM:-0800
TZOFFSETTO:-0700
TZNAME:PDT
DTSTART:20220313T100000
END:DAYLIGHT
BEGIN:STANDARD
TZOFFSETFROM:-0700
TZOFFSETTO:-0800
TZNAME:PST
DTSTART:20221106T090000
END:STANDARD
BEGIN:DAYLIGHT
TZOFFSETFROM:-0800
TZOFFSETTO:-0700
TZNAME:PDT
DTSTART:20230312T100000
END:DAYLIGHT
BEGIN:STANDARD
TZOFFSETFROM:-0700
TZOFFSETTO:-0800
TZNAME:PST
DTSTART:20231105T090000
END:STANDARD
END:VTIMEZONE
BEGIN:VEVENT
DTSTART;TZID=America/Los_Angeles:20220831T010000
DTEND;TZID=America/Los_Angeles:20220930T100000
DTSTAMP:20260419T065944
CREATED:20220831T084457Z
LAST-MODIFIED:20220831T084457Z
UID:4229-1661907600-1664532000@bendbikes.org
SUMMARY:Call to Action: Complete the Innovative Mobility Program Survey
DESCRIPTION:The Oregon Department of Transportation (ODOT) is designing a new $20 million-dollar Innovative Mobility Program (IMP)\, which aims to provide climate-friendly\, equitable\, and accessible alternatives to driving alone. They are looking for feedback from folks who have been intentionally excluded and underserved by the current transportation system to understand what kind of support ODOT can provide to encourage sustainable travel options like riding a bike. \nTake the survey here by September 30th to share your thoughts. Consider including ideas like bike share programs\, state bike share passes\, infrastructure\, free bike equipment\, and others.
URL:https://bendbikes.org/event/call-to-action-complete-the-innovative-mobility-program-survey/
END:VEVENT
BEGIN:VEVENT
DTSTART;TZID=America/Los_Angeles:20220915T080000
DTEND;TZID=America/Los_Angeles:20220915T100000
DTSTAMP:20260419T065944
CREATED:20220831T083217Z
LAST-MODIFIED:20220831T084530Z
UID:4227-1663228800-1663236000@bendbikes.org
SUMMARY:Public Comment for Midtown Crossing Projects at CAAB Meeting
DESCRIPTION:A summary of community feedback on the Midtown Bicycle and Pedestrian Crossing projects is now available to the public! The next steps for these potential GO Bond projects is for City Council to receive recommendations from a working group comprised of members from the Core Area Advisory Board (CAAB) and the Transportation Bond Oversight Committee (TBOC). Provide your public comment to CAAB in person on Thursday\, September 15th or visit the website below to join the meeting virtually.  \nThese public comment periods are the best way to make your voice heard! Review the Midtown Bicycle and Pedestrian Crossing Open House summary here.     \nA note to our supporters: Bend Bikes sees the most potential for near-term safety improvements at Greenwood where there is plenty of space to work with and options for quick-build protected bike lanes. Having these safety improvements at Greenwood will help alleviate detour stress when Franklin is improved and Hawthorne is constructed. Our dreams for Franklin and Hawthorne both require time consuming and expensive permitting\, planning\, and construction processes\, so our hope is that the behind-the-scenes work progresses while we move forward with Greenwood.
URL:https://bendbikes.org/event/public-comment-for-midtown-crossing-projects-at-caab-meeting/
LOCATION:City Council Chambers\, City Hall\, 710 NW Wall Street\, Bend\, OR\, 97701\, United States
CATEGORIES:City of Bend Projects
END:VEVENT
BEGIN:VEVENT
DTSTART;TZID=America/Los_Angeles:20220915T090000
DTEND;TZID=America/Los_Angeles:20220915T120000
DTSTAMP:20260419T065944
CREATED:20220810T105733Z
LAST-MODIFIED:20220912T101959Z
UID:4214-1663232400-1663243200@bendbikes.org
SUMMARY:Crux Bike Night
DESCRIPTION:The folks at Crux Fermentation project want to celebrate those who go-by-bike! Ride your bike to Crux on Thursday\, September 15th between 4-7pm for $1 off beers and a chance to win some Bend Bikes swag!  \nVisit the Bend Bikes table to check out our Bike Map and learn about recommended bike routes to get you where you’re going. Connect with other bike/pedestrian organizations in town and find out how you can get involved!
URL:https://bendbikes.org/event/crux-bike-night/
LOCATION:Crux Fermentation Project\, 50 SW Division St.\, Bend\, OR\, 97702\, United States
ORGANIZER;CN="Crux Fermentation Project":MAILTO:info@cruxfermentation.com
END:VEVENT
END:VCALENDAR