BEGIN:VCALENDAR
VERSION:2.0
PRODID:-//Bend Bikes - ECPv6.15.15//NONSGML v1.0//EN
CALSCALE:GREGORIAN
METHOD:PUBLISH
X-WR-CALNAME:Bend Bikes
X-ORIGINAL-URL:https://bendbikes.org
X-WR-CALDESC:Events for Bend Bikes
REFRESH-INTERVAL;VALUE=DURATION:PT1H
X-Robots-Tag:noindex
X-PUBLISHED-TTL:PT1H
BEGIN:VTIMEZONE
TZID:America/Los_Angeles
BEGIN:DAYLIGHT
TZOFFSETFROM:-0800
TZOFFSETTO:-0700
TZNAME:PDT
DTSTART:20210314T100000
END:DAYLIGHT
BEGIN:STANDARD
TZOFFSETFROM:-0700
TZOFFSETTO:-0800
TZNAME:PST
DTSTART:20211107T090000
END:STANDARD
BEGIN:DAYLIGHT
TZOFFSETFROM:-0800
TZOFFSETTO:-0700
TZNAME:PDT
DTSTART:20220313T100000
END:DAYLIGHT
BEGIN:STANDARD
TZOFFSETFROM:-0700
TZOFFSETTO:-0800
TZNAME:PST
DTSTART:20221106T090000
END:STANDARD
BEGIN:DAYLIGHT
TZOFFSETFROM:-0800
TZOFFSETTO:-0700
TZNAME:PDT
DTSTART:20230312T100000
END:DAYLIGHT
BEGIN:STANDARD
TZOFFSETFROM:-0700
TZOFFSETTO:-0800
TZNAME:PST
DTSTART:20231105T090000
END:STANDARD
END:VTIMEZONE
BEGIN:VEVENT
DTSTART;VALUE=DATE:20220612
DTEND;VALUE=DATE:20220704
DTSTAMP:20260419T115629
CREATED:20220613T033216Z
LAST-MODIFIED:20220618T011106Z
UID:4179-1655053200-1656867599@bendbikes.org
SUMMARY:Online Open House Midtown Pedestrian & Bicycle Crossing Project
DESCRIPTION:View the preliminary design concepts and provide your feedback online regarding pedestrian and bicycle crossings of the US 97 Bend Parkway and the BNSP railroad at Greenwood Ave. (existing under-crossing)\, Franklin Ave. (existing under-crossing)\, and Hawthorne Ave. (potential over-crossing).  \nVisit the online Open House at bendoregon.gov/midtowncrossings (link below). Feedback will be accepted from Monday\, June 13th to Sunday\, July 3rd.   \nWe also highly encourage your attendance at the in-person Open House on Wednesday\, June 22nd at the Open Space Event Studios\, located on 220 NE Lafayette Avenue.
URL:https://bendbikes.org/event/online-open-house-midtown-pedestrian-bicycle-crossing-project/
CATEGORIES:City of Bend Projects
END:VEVENT
END:VCALENDAR